BEGIN:VCALENDAR
VERSION:2.0
PRODID:-//The Voice of Shepherd Ministries - ECPv6.15.17.1//NONSGML v1.0//EN
CALSCALE:GREGORIAN
METHOD:PUBLISH
X-ORIGINAL-URL:https://thevoiceofshepherd.org
X-WR-CALDESC:Events for The Voice of Shepherd Ministries
REFRESH-INTERVAL;VALUE=DURATION:PT1H
X-Robots-Tag:noindex
X-PUBLISHED-TTL:PT1H
BEGIN:VTIMEZONE
TZID:UTC
BEGIN:STANDARD
TZOFFSETFROM:+0000
TZOFFSETTO:+0000
TZNAME:UTC
DTSTART:20250101T000000
END:STANDARD
END:VTIMEZONE
BEGIN:VEVENT
DTSTART;TZID=UTC:20261225T210000
DTEND;TZID=UTC:20261225T220000
DTSTAMP:20260419T154613
CREATED:20260105T115859Z
LAST-MODIFIED:20260105T115859Z
UID:26752-1798232400-1798236000@thevoiceofshepherd.org
SUMMARY:Christmas Day - The Birth of Jesus Christ
DESCRIPTION:FALSE
URL:https://thevoiceofshepherd.org/event/christmas-day-the-birth-of-jesus-christ/
LOCATION:Online – Via Zoom
CATEGORIES:Special Service
ORGANIZER;CN="Pastor Ashir Bashir":MAILTO:mission@thevoiceofshepherd.org
END:VEVENT
BEGIN:VEVENT
DTSTART;TZID=UTC:20261226T210000
DTEND;TZID=UTC:20261226T220000
DTSTAMP:20260419T154613
CREATED:20260105T115859Z
LAST-MODIFIED:20260105T115859Z
UID:26753-1798318800-1798322400@thevoiceofshepherd.org
SUMMARY:Youth Mentorship Program - Living a Word-Centered Life
DESCRIPTION:FALSE
URL:https://thevoiceofshepherd.org/event/youth-mentorship-program-living-a-word-centered-life/
LOCATION:Online – Via Zoom
CATEGORIES:Youth Mentorship
END:VEVENT
BEGIN:VEVENT
DTSTART;TZID=UTC:20261227T210000
DTEND;TZID=UTC:20261227T220000
DTSTAMP:20260419T154613
CREATED:20260105T115859Z
LAST-MODIFIED:20260105T115859Z
UID:26754-1798405200-1798408800@thevoiceofshepherd.org
SUMMARY:Youth Prayer Meeting - Wisdom for a Bright Future
DESCRIPTION:FALSE
URL:https://thevoiceofshepherd.org/event/youth-prayer-meeting-wisdom-for-a-bright-future/
LOCATION:Online – Via Zoom
CATEGORIES:Youth Prayer
END:VEVENT
BEGIN:VEVENT
DTSTART;TZID=UTC:20261229T210000
DTEND;TZID=UTC:20261229T220000
DTSTAMP:20260419T154613
CREATED:20260105T115859Z
LAST-MODIFIED:20260219T083829Z
UID:26755-1798578000-1798581600@thevoiceofshepherd.org
SUMMARY:Women Ministry Prayer Meeting - Finishing Strong in Faith
DESCRIPTION:
URL:https://thevoiceofshepherd.org/event/women-ministry-prayer-meeting-finishing-strong-in-faith/
LOCATION:Online – Via Zoom
CATEGORIES:Women Ministry
END:VEVENT
BEGIN:VEVENT
DTSTART;TZID=UTC:20261231T200000
DTEND;TZID=UTC:20261231T220000
DTSTAMP:20260419T154613
CREATED:20260105T115859Z
LAST-MODIFIED:20260105T115859Z
UID:26756-1798747200-1798754400@thevoiceofshepherd.org
SUMMARY:New Year - New Year Eve Prayer
DESCRIPTION:FALSE
URL:https://thevoiceofshepherd.org/event/new-year-new-year-eve-prayer/
CATEGORIES:Special Service
ORGANIZER;CN="Pastor Ashir Bashir":MAILTO:mission@thevoiceofshepherd.org
END:VEVENT
END:VCALENDAR